BEGIN:VCALENDAR
VERSION:2.0
PRODID:-//DefenceTrend - ECPv6.15.20//NONSGML v1.0//EN
CALSCALE:GREGORIAN
METHOD:PUBLISH
X-WR-CALNAME:DefenceTrend
X-ORIGINAL-URL:https://www.defencetrend.com
X-WR-CALDESC:DefenceTrend için etkinlikler
REFRESH-INTERVAL;VALUE=DURATION:PT1H
X-Robots-Tag:noindex
X-PUBLISHED-TTL:PT1H
BEGIN:VTIMEZONE
TZID:Europe/Moscow
BEGIN:STANDARD
TZOFFSETFROM:+0300
TZOFFSETTO:+0300
TZNAME:MSK
DTSTART:20230101T000000
END:STANDARD
END:VTIMEZONE
BEGIN:VEVENT
DTSTART;TZID=Europe/Moscow:20241014T080000
DTEND;TZID=Europe/Moscow:20241016T170000
DTSTAMP:20260422T021524
CREATED:20241005T235421Z
LAST-MODIFIED:20241005T235421Z
UID:10000006-1728892800-1729098000@www.defencetrend.com
SUMMARY:AUSA - 2024
DESCRIPTION:AUSA 2024 (The Association of the United States Army)\nBirleşik Devletler Ordusu Derneği Yıllık Toplantısı\, Kuzey Amerika’daki en büyük kara gücü fuarı ve profesyonel gelişim forumudur. Üç gün boyunca sürecek olan Yıllık Toplantı\, kuruluşların yeteneklerini vurgulayarak ve çok çeşitli sektör ürün ve hizmetlerini sunarak Ordu’nun mesajını iletmek üzere tasarlanmıştır. AUSA bu görevi tüm etkinlik boyunca Ordunun Durumu hakkında bilgilendirici ve ilgili sunumlar\, ilgili askeri ve ulusal güvenlik konularında panel tartışmaları ve seminerler ve katılan herkese açık çeşitli değerli ağ oluşturma etkinlikleri sunarak yerine getirmektedir. \nAUSA (Amerika Birleşik Devletleri Ordusu Birliği)\, Amerika Ordusuna ve güçlü bir ulusal savunmanın destekçilerine hizmet eden\, kar amacı gütmeyen bir eğitim ve mesleki gelişim derneğidir.
URL:https://www.defencetrend.com/etkinlik-detay/ausa-2024/
LOCATION:Mount Vernon Square/7th Street Convention Center\, 700 M St NW\, Washington\, DC 20001\, Washington\, DC\, 2001\, United States
CATEGORIES:AUSA
ATTACH;FMTTYPE=image/png:https://www.defencetrend.com/wp-content/uploads/2024/10/AUSA-2024.png
ORGANIZER;CN="AUSA":MAILTO:membersupport@ausa.org
END:VEVENT
BEGIN:VEVENT
DTSTART;TZID=Europe/Moscow:20241014T080000
DTEND;TZID=Europe/Moscow:20241018T170000
DTSTAMP:20260422T021524
CREATED:20240930T223309Z
LAST-MODIFIED:20240930T223309Z
UID:10000004-1728892800-1729270800@www.defencetrend.com
SUMMARY:Future Forces Exhibition 2024
DESCRIPTION:GELECEK GÜÇLER SERGİSİ 2024\n\nSavunma Sanayi Fuarı\n\nPVA EXPO PRAHA\,Prag\,Çek Cumhuriyeti\n\n\n\n\nSüre: 3 Gün / Dönem: 2 Yılda 1\n\n\n\n1985 yılında kurulan Future Forces\, iki yılda bir Prag’ın himayesinde düzenlenen ve Çek Savunma Bakanlığı ve Savunma Şefi\, NATO Karargahı\, EDA\, EUROPOL\, FBI tarafından desteklenen savunma ve güvenlik alanında oldukça tanınmış bir uluslararası etkinliktir. Operasyonel ve koruyucu giysiler\, vücut zırhı\, yük taşıma\, KBRN koruması ve kişisel algılama\, ortak iletişim sistemleri\, elektro optik nişan alma ve görme\, dijital haritalama ve durum bilinci\, C4I yönetimi ve yapıları\, kişisel silah sistemleri\, ölümcül olmayan silahlar ve isyan kontrolü\, güç kaynakları\, arkadaş ve düşman tanıma\, eğitim için simülasyon ve sanal gerçeklik\, savaş alanı / altyapı destek ekipmanları\, barınaklar\, lojistik\, dijital savaş alanı gibi içeriklere sahip olan fuar\, 2016 yılında 25 ülkeden 169 katılımcı ve 59 ülkeden 7652 ziyaretçi konuk etmiştir.
URL:https://www.defencetrend.com/etkinlik-detay/future-forces-exhibition-2024/
LOCATION:PVA EXPO PRAHA\, Beranových 667\, 199 00\, Praha\, Praha\, Czech Republic
CATEGORIES:Future Forces
ATTACH;FMTTYPE=image/jpeg:https://www.defencetrend.com/wp-content/uploads/2024/10/Global-Networking.jpg
ORGANIZER;CN="Future Advanced Technologies Institute":MAILTO:info@future-forces-forum.org
END:VEVENT
END:VCALENDAR