BEGIN:VCALENDAR
VERSION:2.0
PRODID:-//DefenceTrend - ECPv6.15.20//NONSGML v1.0//EN
CALSCALE:GREGORIAN
METHOD:PUBLISH
X-ORIGINAL-URL:https://www.defencetrend.com
X-WR-CALDESC:DefenceTrend için etkinlikler
REFRESH-INTERVAL;VALUE=DURATION:PT1H
X-Robots-Tag:noindex
X-PUBLISHED-TTL:PT1H
BEGIN:VTIMEZONE
TZID:Europe/Istanbul
BEGIN:STANDARD
TZOFFSETFROM:+0300
TZOFFSETTO:+0300
TZNAME:+03
DTSTART:20230101T000000
END:STANDARD
END:VTIMEZONE
BEGIN:VEVENT
DTSTART;TZID=Europe/Istanbul:20241104T080000
DTEND;TZID=Europe/Istanbul:20241107T170000
DTSTAMP:20260425T170952
CREATED:20241028T091240Z
LAST-MODIFIED:20241028T101457Z
UID:10000007-1730707200-1730998800@www.defencetrend.com
SUMMARY:EURONAVAL
DESCRIPTION:Denizden milletlerimizi koru\n\n\n\n\n1968 yılında Fransız denizcilik sanayi için kurulan Euronaval\, zamanla önce Avrupalı\, ardından uluslararası üreticilere açılarak deniz savunmasında küresel bir referans haline geldi. \nDünya çapındaki en son jeostratejik ve ekonomik gelişmelerden haberdar olan bu etkinlik\, sürekli olarak gelişmekte ve her yeni edisyona yenilikçi teknolojik ürünler eklemektedir. Bu duyarlılık\, iki yılda bir düzenlenen etkinliğin 21. yüzyılın başlıca deniz ve denizcilik zorluklarına yanıtlar sunmasını sağlamaktadır. \n50 yılı aşkın süredir\, gösterinin gücü en önemli resmi delegasyonları (hükümet karar vericileri\, yabancı donanmaların genelkurmay başkanları) çekme yeteneği olmuştur. 2022’de gösteri 150 Fransız ve uluslararası delegasyonu ağırladı. \n\n\n\n\n\n\n\n\nYeni mekan\, yeni tarihler! 2024’te Paris Olimpiyat ve Paralimpik Oyunları nedeniyle EURONAVAL\, 4\nKasım Pazartesi’den  7 Kasım Perşembe’ye kadar PARIS NORD VILLEPINTE Sergi Merkezi’nde (salon 6) düzenlenecek .
URL:https://www.defencetrend.com/etkinlik-detay/euronaval/
LOCATION:EURONAVAL\, Paris Nord Villepinte\, Fransa\, Paris\, France
CATEGORIES:EURONAVAL
ATTACH;FMTTYPE=image/jpeg:https://www.defencetrend.com/wp-content/uploads/2024/10/euronaval.jpg
GEO:48.972328096365;2.5215165523927
X-APPLE-STRUCTURED-LOCATION;VALUE=URI;X-ADDRESS=EURONAVAL Paris Nord Villepinte Fransa Paris France;X-APPLE-RADIUS=500;X-TITLE=Paris Nord Villepinte\, Fransa:geo:2.5215165523927,48.972328096365
END:VEVENT
BEGIN:VEVENT
DTSTART;TZID=Europe/Istanbul:20241104T080000
DTEND;TZID=Europe/Istanbul:20241107T170000
DTSTAMP:20260425T170952
CREATED:20241028T104315Z
LAST-MODIFIED:20241028T104437Z
UID:10000008-1730707200-1730998800@www.defencetrend.com
SUMMARY:INDO DEFENCE EXPO & FORUM
DESCRIPTION:Indo Defence Expo & Forum Hakkında\n\n\n\n\n\n\n\n\nSavunma Bakanlığı’nın ev sahipliği yaptığı Indo Defence Expo & Forum\, 2004’ten beri Endonezya\, Cakarta’daki JIExpo Kemayoran’da düzenlenen uluslararası savunma ve güvenlik ekipmanı üreticileri için iki yılda bir düzenlenen üç hizmetli savunma teknolojisi ve satış fuarı ve tanıtım etkinliğidir. Indo Aerospace Expo & Forum ve Indo Marine Expo & Forum ile aynı anda düzenlenen Expo\, Güneydoğu Asya’nın en büyük savunma fuarı ve dünya takvim etkinliğindeki en iyi fuarlardan biri olarak kabul edilmektedir. \n  \nIndo Defence Expo & Forum\, size en uygun maliyetli pazarlama fırsatını sunmak için tasarlanmıştır ve tek bir noktadan en üst düzey askeri savunma yetkililerine ve karar vericilere erişim sağlar. En son askeri\, havacılık ve deniz savunma ve güvenlik teknolojilerini sergileyen Indo Defense\, dünyanın dört bir yanından önemli karar vericilerin\, savunma yetkililerinin ve şirketlerin kapsamlı bir buluşma noktasıdır. \n  \nİş faaliyetlerini bir üst seviyeye taşıyan fuar\, katılımcı ülkeler arasında son teknoloji gelişmelerini keşfetmek ve bilgi aktarımı yapmak amacıyla uluslararası seminerler\, sempozyumlar\, ücretsiz teknik ürün sunumları\, canlı ürün demoları ve sektör uzmanlarıyla iletişim kurma olanağı sağlıyor.
URL:https://www.defencetrend.com/etkinlik-detay/indo-defence-expo-forum/
LOCATION:INDO DEFENCE EXPO & FORUM\, RW.10\, East Pademangan\, Pademangan\, Central Jakarta City\, Cakarta 14410\, Endonezya\, Jakarta\, Indonesia
CATEGORIES:INDO DEFENCE EXPO & FORUM
ATTACH;FMTTYPE=image/jpeg:https://www.defencetrend.com/wp-content/uploads/2024/10/images.jpeg
GEO:-6.1458592482152;106.84587971427
X-APPLE-STRUCTURED-LOCATION;VALUE=URI;X-ADDRESS=INDO DEFENCE EXPO & FORUM RW.10 East Pademangan Pademangan Central Jakarta City Cakarta 14410 Endonezya Jakarta Indonesia;X-APPLE-RADIUS=500;X-TITLE=RW.10\, East Pademangan\, Pademangan\, Central Jakarta City\, Cakarta 14410\, Endonezya:geo:106.84587971427,-6.1458592482152
END:VEVENT
BEGIN:VEVENT
DTSTART;TZID=Europe/Istanbul:20241106T090000
DTEND;TZID=Europe/Istanbul:20241109T173000
DTSTAMP:20260425T170952
CREATED:20241028T105908Z
LAST-MODIFIED:20241104T012853Z
UID:10000009-1730883600-1731173400@www.defencetrend.com
SUMMARY:Eskişehir Endüstri Ar-Ge\, Sanayi Ve Teknolojileri Fuarı
DESCRIPTION:Fuar Hakkında\n\nGeleceğin teknolojilerine dair her şey Eskişehir Endüstri Fuarı’nda!Sanayi şehri olma yolunda emin adımlarla ilerleyen\, güçlü sanayiye ve gelişmiş bir yapıya sahip olan Eskişehir\, yeni iş bağlantılarına fırsat yaratan Eskişehir Endüstri Fuarı’na hazırlanıyor. 2023 yılında 2 salondan oluşan 8 bin m2 alanda 100’den fazla sektör lideri firmanın katılımı ile gerçekleşen fuar\, 21 bin 95 profesyonel tarafından ziyaret edilerek sektör başarısını kanıtladı.TÜYAP Tüm Fuarcılık Yapım A.Ş. tarafından T.C. Eskişehir Valiliği ve Eskişehir Büyükşehir Belediyesi’nin katkıları\, Eskişehir Ticaret Odası iş birliği\, T.C. Cumhurbaşkanlığı Savunma Sanayii Başkanlığı\, Eskişehir Organize Sanayi Bölge Müdürlüğü\, Eskişehir Teknik Üniversitesi\, Eskişehir Osmangazi Üniversitesi ve KOSGEB’in destekleri ile gerçekleşecek fuar\,  Türkiye’nin havacılık\, savunma ve makine sanayindeki yerli ve milli gücünü ortaya koydu.    Fuarda makine\, havacılık ve otomotiv sektörlerindeki ana firmalar ile Ar-Ge firmaları\, alt yükleniciler\, tedarikçiler\, yan sanayi firmaları\, işletme teknolojileri\, robot teknolojileri ve yurt dışından gelen alım heyetleri aynı organizasyonda bir araya geldi. Türkiye markalı ana firmalar ile yan sanayi ve teknoloji üreten tedarikçilerin B2B iş görüşmeleri yoğun ilgi gördü.
URL:https://www.defencetrend.com/etkinlik-detay/eskisehir-endustri-ar-ge-sanayi-ve-teknolojileri-fuari/
LOCATION:Eskişehir Ticaret Odası TÜYAP Fuar Merkezi\, 71 Evler\, 26080 Odunpazarı/Eskişehir\, Eskişehir\, Eskişehir\, Turkey
CATEGORIES:Eskişehir Endüstri Fuarı
ATTACH;FMTTYPE=image/jpeg:https://www.defencetrend.com/wp-content/uploads/2024/10/Eskisehir-endustri-fuari-2024.jpg
GEO:39.754203171518;30.594377387941
X-APPLE-STRUCTURED-LOCATION;VALUE=URI;X-ADDRESS=Eskişehir Ticaret Odası TÜYAP Fuar Merkezi 71 Evler 26080 Odunpazarı/Eskişehir Eskişehir Eskişehir Turkey;X-APPLE-RADIUS=500;X-TITLE=71 Evler\, 26080 Odunpazarı/Eskişehir:geo:30.594377387941,39.754203171518
END:VEVENT
BEGIN:VEVENT
DTSTART;TZID=Europe/Istanbul:20241113T080000
DTEND;TZID=Europe/Istanbul:20241115T170000
DTSTAMP:20260425T170952
CREATED:20241112T123333Z
LAST-MODIFIED:20241112T123333Z
UID:10000011-1731484800-1731690000@www.defencetrend.com
SUMMARY:Bahrain Airshow
DESCRIPTION:Bahreyn Kralı Hamed bin İsa Al Halife himayesinde düzenlenen Bahreyn Uluslararası Havacılık Gösterisi\, Bahreyn’de bulunan Sakhir Hava Üssü’nde 13-15 Kasım tarihlerinde düzenlenecek. \nBu yıl 11. kez misafirlerini ağırlayacak Bahrain Airshow’da 2022 yılında 30’dan fazla ülkeden 186 şirket stant açtı. 200’den fazla askeri ve sivil heyet gösteriyi ziyaret etti. \n2018 yılında 54.000’den fazla kişinin ziyaret ettiği Bahrain Airshow’da\, 5 milyar doların üzerinde sözleşme imzalandı.
URL:https://www.defencetrend.com/etkinlik-detay/bahrain-airshow/
LOCATION:Bahrain Airshow\, Sakhir Hava Üssü\, Bahreyn Krallığı\, Bahrein\, bahrein\, Bahrain
CATEGORIES:Bahrain Airshow
ATTACH;FMTTYPE=image/webp:https://www.defencetrend.com/wp-content/uploads/2024/11/Generic-blog-tile-e1716543140325.webp
END:VEVENT
BEGIN:VEVENT
DTSTART;TZID=Europe/Istanbul:20241119T080000
DTEND;TZID=Europe/Istanbul:20241122T170000
DTSTAMP:20260425T170952
CREATED:20241106T085052Z
LAST-MODIFIED:20241106T085605Z
UID:10000010-1732003200-1732294800@www.defencetrend.com
SUMMARY:IDEAS Pakistan
DESCRIPTION:İki yılda bir düzenlenen savunma fuarı IDEAS\, en son teknolojik yenilikleri sergilemek için dünyanın dört bir yanındaki tüm oyuncuları bir araya getirecek. \nFuarın İçeriği: Hava araçları ve hava kuvvetleri ile ilgili sistemler\, topçu sistemleri\, her türlü el sanatları dahil deniz sistemleri\, hava savunma\, savaş ve lojistik araçlar\, tanklar\, APC’ler\, radar sistemleri\, füzeler\, silahlar\, mühimmat\, silah ve elektronik / optometrik cihazlar\, gözetim ekipmanları insani yardım operasyonlarını\, eğitim ve simülasyon\, koruma\, operasyonel lojistik\, hizmetler\, deniz gemileri ve denizaltıları desteklemek için her türlü terörist\, etnik\, mezhepsel ve cezai faaliyet\, ekipman ve malzeme ile mücadele etmek ve tanımlamak.
URL:https://www.defencetrend.com/etkinlik-detay/ideas-pakistan/
LOCATION:Karachi Expo Centre\, Main Main University Rd\, Block 15 Gulshan-e-Iqbal\, Karachi\, Karachi\, Sindh\, Pakistan
CATEGORIES:IDEAS Pakistan
ATTACH;FMTTYPE=image/png:https://www.defencetrend.com/wp-content/uploads/2024/11/Pakistan-Fuar.png
GEO:24.902099736654;67.076784340468
X-APPLE-STRUCTURED-LOCATION;VALUE=URI;X-ADDRESS=Karachi Expo Centre Main Main University Rd Block 15 Gulshan-e-Iqbal Karachi Karachi Sindh Pakistan;X-APPLE-RADIUS=500;X-TITLE=Main Main University Rd\, Block 15 Gulshan-e-Iqbal\, Karachi:geo:67.076784340468,24.902099736654
END:VEVENT
BEGIN:VEVENT
DTSTART;TZID=Europe/Istanbul:20241126T080000
DTEND;TZID=Europe/Istanbul:20241127T170000
DTSTAMP:20260425T170952
CREATED:20241123T195747Z
LAST-MODIFIED:20241123T195747Z
UID:10000017-1732608000-1732726800@www.defencetrend.com
SUMMARY:Future Soldier 2024
DESCRIPTION:Hakkında \nGeleceğin Askeri 2024 organizasyonu\, bir kişinin çalışmalarına hizmet etmeyi amaçlamaktadır.  \nTeknoloji sayesinde daha çevik\, daha entegre ve daha sefere hazır bir ordu. \n\nAskeri sistemlerin geleceğine ilişkin uluslararası ve ulusal çalışmaların bugününe ve geleceğine odaklanarak\, \nkuruluş farklı bakış açılarını ve uygulamaları bir araya getirecek \nYeni nesil savaş araçlarının oluşturduğu tehditlere karşı önlem almak.
URL:https://www.defencetrend.com/etkinlik-detay/future-soldier-2024/
LOCATION:future soldier 2024\, Akıncı Mah. TUSAŞ (Havacılar) Bulvarı No:1\, 06980 Kahramankazan/Ankara\, Ankara\, Ankara\, Turkey
CATEGORIES:Future Soldier 2024
ATTACH;FMTTYPE=image/jpeg:https://www.defencetrend.com/wp-content/uploads/2024/11/NDtgXizTecfIBdApjJ8JFUUe73wNcH0xjXPMUohA-scaled.jpg
GEO:40.078116314948;32.597929650752
X-APPLE-STRUCTURED-LOCATION;VALUE=URI;X-ADDRESS=future soldier 2024 Akıncı Mah. TUSAŞ (Havacılar) Bulvarı No:1 06980 Kahramankazan/Ankara Ankara Ankara Turkey;X-APPLE-RADIUS=500;X-TITLE=Akıncı Mah. TUSAŞ (Havacılar) Bulvarı No:1\, 06980 Kahramankazan/Ankara:geo:32.597929650752,40.078116314948
END:VEVENT
END:VCALENDAR